BEGIN:VCALENDAR
VERSION:2.0
X-WR-CALNAME:www.indybay.org
PRODID:-//indybay/ical// v1.0//EN
BEGIN:VEVENT
UID:Indybay-18802731
SEQUENCE:18940880
CREATED:20170908T222700Z
DESCRIPTION:celebrating the release of Sam Sax's new poetry collection "MADNESS" 
 published by Penguin Books\n 
 https://www.indybay.org/newsitems/2017/09/08/18802731.php
SUMMARY:City Lights Reading - Sam Sax and D.A. Powell
LOCATION:City Lights Booksellers, 261 Columbus Avenue, San Francisco
URL:https://www.indybay.org/newsitems/2017/09/08/18802731.php
DTSTART:20171208T030000Z
DTEND:20171208T050000Z
END:VEVENT
END:VCALENDAR
