BEGIN:VCALENDAR
VERSION:2.0
X-WR-CALNAME:www.indybay.org
PRODID:-//indybay/ical// v1.0//EN
BEGIN:VEVENT
UID:Indybay-18802704
SEQUENCE:18940851
CREATED:20170908T210000Z
DESCRIPTION:reading from his new novel "The Age of Perpetual Light" from Grove 
 Press\n\n\n https://www.indybay.org/newsitems/2017/09/08/18802704.php
SUMMARY:City Lights Reading - Josh Weil
LOCATION:City Lights Booksellers, 261 Columbus Avenue, San Francisco
URL:https://www.indybay.org/newsitems/2017/09/08/18802704.php
DTSTART:20170928T020000Z
DTEND:20170928T040000Z
END:VEVENT
END:VCALENDAR
