BEGIN:VCALENDAR
VERSION:2.0
X-WR-CALNAME:www.indybay.org
PRODID:-//indybay/ical// v1.0//EN
BEGIN:VEVENT
UID:Indybay-18802515
SEQUENCE:18940475
CREATED:20170904T004300Z
DESCRIPTION:Join us in celebrating the intersections of queer and trans family, 
 agroecology, and our movements for racial justice and gender liberation 
 with a day of creativity and connection at the UCSC Farm. \n\nCome explore 
 what it means to be queer, farmers, and queer farmers! All are 
 welcome!\n\nActivities include:\nfarm tours!\ncollaborative art 
 pieces!\nbouquet making!\nqueer ecology real talk!\nface painting!\na 
 magical Photo Booth!\nand live musical performances! \n+ delicious food 
 (lunch provided) \n\nThis event is hosted by the Queer Farmers of the 
 Ecological Horticulture Apprenticeship program at the Center for 
 Agroecology and Sustainable Food Systems. \n\nFull Schedule Coming 
 Soon….\n https://www.indybay.org/newsitems/2017/09/03/18802515.php
SUMMARY:Queer Farmer Field Day 2017
LOCATION:UC Santa Cruz\nCenter for Agroecology & Sustainable Food Systems\n305 Ranch 
 View Road, Santa Cruz, California 95064
URL:https://www.indybay.org/newsitems/2017/09/03/18802515.php
DTSTART:20170924T180000Z
DTEND:20170925T000000Z
END:VEVENT
END:VCALENDAR
