BEGIN:VCALENDAR
VERSION:2.0
X-WR-CALNAME:www.indybay.org
PRODID:-//indybay/ical// v1.0//EN
BEGIN:VEVENT
UID:Indybay-18802161
SEQUENCE:18939819
CREATED:20170824T233100Z
DESCRIPTION:Sunday Morning at the Marxist Library\n\nYes to Marxism in America\n\nIn 
 response to a "No to Marxism in America" rally planned by neo-fascists for 
 Sunday afternoon, Aug. 27, in downtown Berkeley, we will continue our 
 reading of The Communist Manifesto, with special attention paid to the 
 rising threat of fascism in Trump’s America and how to stop it. In 
 preparation, participants are urged to read, or re-read, this important 
 document.\n\nPART ONE: Sun, Aug 27, 2017 – 10:30am-Noon\nPART TWO: Sun, 
 Sept 3, 2017–10:30am-12:30pm\n\nNiebyl-Proctor Marxist Library\n6501 
 Telegraph Ave, Oakland \n(just North of Alcatraz Ave.)\n(doors open 
 10:15am)\n\nFREE - but hat will be passed for donations to NPML\n\nAbout 
 Sunday Morning at the Marxist Library\nA weekly discussion series inspired 
 by our respect for the work of Karl Marx and our belief that his work will 
 remain as important for the class struggles of the future as they have been 
 for the past. \n\nFor info or to subscribe to our weekly announcements, 
 \nCall Gene Ruyle at 510-332-3865 or email: cuyleruyle@mac.com\nFor our 
 full schedule, go to icssmarx.org \n 
 https://www.indybay.org/newsitems/2017/08/24/18802161.php
SUMMARY:Yes to Marxism in America
LOCATION:Niebyl-Proctor Marxist Library\n6501 Telegraph Ave, Oakland \n(just North 
 of Alcatraz Ave.)
URL:https://www.indybay.org/newsitems/2017/08/24/18802161.php
DTSTART:20170827T173000Z
DTEND:20170827T193000Z
END:VEVENT
END:VCALENDAR
