BEGIN:VCALENDAR
VERSION:2.0
X-WR-CALNAME:www.indybay.org
PRODID:-//indybay/ical// v1.0//EN
BEGIN:VEVENT
UID:Indybay-18801009
SEQUENCE:18938168
CREATED:20170724T023000Z
DESCRIPTION:How can we improve commutes to work? \n\nAs part of our effort to educate 
 ourselves, we've invited Steve Raney, the Executive Director for Joint 
 Venture of Silicon Valley's Smart Mobility project. Smart Mobility is 
 working to integrate employer programs with mobility software to provide a 
 seamless, door-to-door combination of transportation modes —including 
 public and private transit, bikeshare, rideshare, carshare, vanpool, taxi, 
 employer commute benefits, electric scooter/bike lease, pay-by-phone 
 parking, — to outcompete private auto ownership.\nSteve's background 
 includes:\n\n* Principal Investigator for the U.S. Environmental Protection 
 Agency’s “Transforming Office Parks into Transit Villages” Study\n* 
 Led BART’s Group Rapid Transit Study\n* Conceived Metropolitan 
 Transportation Commission’s $33 million Climate Innovations Grant 
 Program.\n* Led Ultra Global Personal Rapid Transit’s North American 
 operations. At London Heathrow Terminal 5, Ultra became the world’s 
 second PRT electric vehicle transit system. With Ultra, Steve led last mile 
 transit studies for Raleigh, Austin, San Jose Airport, Palo Alto, 
 Pleasanton, Edina, Microsoft, and Oakland Airport, developing the first 
 profitable public private partnership business models.\n 
 https://www.indybay.org/newsitems/2017/07/23/18801009.php
SUMMARY:Fixing the Commute
LOCATION:Santa Cruz Police Department Community Room\n155 Center St\nSanta Cruz, CA
URL:https://www.indybay.org/newsitems/2017/07/23/18801009.php
DTSTART:20170726T003000Z
DTEND:20170726T013000Z
END:VEVENT
END:VCALENDAR
