BEGIN:VCALENDAR
VERSION:2.0
X-WR-CALNAME:www.indybay.org
PRODID:-//indybay/ical// v1.0//EN
BEGIN:VEVENT
UID:Indybay-18800591
SEQUENCE:18937589
CREATED:20170701T232900Z
DESCRIPTION:Acclaimed Pakistani classical singer, Ayesha Nadir Ali, trained in the 
 Dhrupad style of singing will perform from her classical repertoire as well 
 as selections of Punjabi sufi poetry touching on subjects of justice and 
 humanism.\n https://www.indybay.org/newsitems/2017/07/01/18800591.php
SUMMARY:An Afternoon of Poetry and Music from Pakistan
LOCATION:Koret Auditorium, San Francisco Public Library, Civic Center, 100 Larkin 
 St., SF, CA 94102
URL:https://www.indybay.org/newsitems/2017/07/01/18800591.php
DTSTART:20170709T220000Z
DTEND:20170709T233000Z
END:VEVENT
END:VCALENDAR
