BEGIN:VCALENDAR
VERSION:2.0
X-WR-CALNAME:www.indybay.org
PRODID:-//indybay/ical// v1.0//EN
BEGIN:VEVENT
UID:Indybay-18800232
SEQUENCE:18937166
CREATED:20170617T162700Z
DESCRIPTION:Calling all rabble rousers, land defenders, nature-lovers !\n\nJoin us for 
 the Earth First! Roadshow, coming to the Bay Area Sat., June 17 at 7 pm at 
 the Omni Commons, 4799 Shattuck in Oakland\n\nThe Roadshow crew brings 
 campaign and history presentations, looking to mix it up with local eco 
 concerns and passions.\nFeaturing updates on Earth First! issues, 
 discussions on earth-centric philosophy, tactics, water and species defense 
 and resistence to the Trump agenda. The gathering aims to inspire the seeds 
 of dissidence and connect people and struggles around the planet.\n\nThe 
 Roadshow will wind up at the Earth First! national Round River Rendezvous, 
 this year in Northern California.\n\nDonations requested and appreciated, 
 but no one turned away for lack of funds\n\nInfo: Earth First! Roadshow; 
 Earth First! Journal; BACH [at] headwaterspreserve.org\n 
 https://www.indybay.org/newsitems/2017/06/17/18800232.php
SUMMARY:Bay Area: Earth First! Roadshow
LOCATION:Omni Commons\n4799 Shattuck\nOakland
URL:https://www.indybay.org/newsitems/2017/06/17/18800232.php
DTSTART:20170618T020000Z
DTEND:20170618T040000Z
END:VEVENT
END:VCALENDAR
