BEGIN:VCALENDAR
VERSION:2.0
X-WR-CALNAME:www.indybay.org
PRODID:-//indybay/ical// v1.0//EN
BEGIN:VEVENT
UID:Indybay-18800176
SEQUENCE:18936972
CREATED:20170616T062100Z
DESCRIPTION:Woody Guthrie’s Birthday & Homestead Strike \n Woody Guthrie: July 14, 
 1912-October 3, 1967 \n Join labor musician Jimmy Kelly in commemorating 
 the life and songs of Woody Guthrie and his birthday. Guthrie, a people and 
 worker’s musician, traveled coast-to-coast singing about striking workers 
 and people in struggle. \nhttps://en.wikipedia.org/wiki/Woody_Guthrie \n\n 
 The River Ran Red (58 min.) 2012 \n By Steffi Domike & Nicole Fauteux \n 
 The violence that erupted at Carnegie Steel’s giant Homestead mill near 
 Pittsburgh on July 6, 1892, caused a congressional investigation and trials 
 for treason, motivated a nearly successful assassination attempt on Frick, 
 contributed to the defeat of President Benjamin Harrison for a second term, 
 and changed the course of the American labor movement. \n\n This film is a 
 ripping account of the summer of 1892, in which a bitter conflict erupted 
 at the Carnegie Works in Homestead, Pennsylvania. The nation’s largest 
 steel maker took on its most militant labor union, with devastating 
 consequences for American workers. Andrew Carnegie and Henry Clay Frick 
 head a fascinating cast of characters, which includes 300 armed Pinkerton 
 guards and the would-be anarchist assassin, Alexander Berkman. This 
 American tragedy still resonates 125 years later, especially in communities 
 hard hit by the decline of heavy industry and labor’s diminishing clout. 
 \n See also: 
 https://aflcio.org/about/history/labor-history-events/1892-homestead-strike 
 \nhttp://battleofhomestead.org/bhf/the-battle-of-homestead/ 
 \nhttp://www.laborfest.net/2017/2017schedule.htm 
 \nhttp://www.laborfest.net/2017/2017Films.htm \n 
 https://www.indybay.org/newsitems/2017/06/15/18800176.php
SUMMARY:Laborfest: Film: The River Ran Red & Woody Guthrie's Birthday
LOCATION:Santa Cruz Public Library - 224 Church St., Santa Cruz
URL:https://www.indybay.org/newsitems/2017/06/15/18800176.php
DTSTART:20170715T170000Z
DTEND:20170715T190000Z
END:VEVENT
END:VCALENDAR
