BEGIN:VCALENDAR
VERSION:2.0
X-WR-CALNAME:www.indybay.org
PRODID:-//indybay/ical// v1.0//EN
BEGIN:VEVENT
UID:Indybay-18800168
SEQUENCE:18937120
CREATED:20170615T235800Z
DESCRIPTION:  Sensible Cinema,The UU Art Committee and Five Keys Charter School 
 Present\n  An Exclusive Preview Screening " The Corridor " a documentary on 
 the Five \n  Keys Charter School and Program founded by the San Francisco 
 Sheriff's Department.\n  Filmmakers Annelise Wunderlich and Richard 
 O'Connell will appear and lead\n  a panel discussion after the screening\n 
 https://www.indybay.org/newsitems/2017/06/15/18800168.php
SUMMARY:Sensible Cinema
LOCATION:  UU Center 1187 Franklin Street @ Geary\n  San Francisco, Ca.
URL:https://www.indybay.org/newsitems/2017/06/15/18800168.php
DTSTART:20170617T013000Z
DTEND:20170617T040000Z
END:VEVENT
END:VCALENDAR
