BEGIN:VCALENDAR
VERSION:2.0
X-WR-CALNAME:www.indybay.org
PRODID:-//indybay/ical// v1.0//EN
BEGIN:VEVENT
UID:Indybay-18800043
SEQUENCE:18936802
CREATED:20170609T200900Z
DESCRIPTION:We’ll walk to the middle of the bridge and back.\n(Unlikely to be a Marin 
 side contingent since Toby will be out of town)\nWe’ll assemble for 
 photos both before and after the walk,\nand will display signage for 
 motorists and pedestrians as we walk the bridge.\nBridge walkers from all 
 over the world often join us and take pictures.\nBring a sign if you like, 
 though we’ll provide some if you don’t.\nMost importantly, JOIN 
 US!\n\nThis month’s theme:  \nLOVE, RISE, RESIST !\n\nLOVE our Mother 
 Earth.\nRISE Up for Peace and Justice.\nRESIST  FASCISM !\n 
 https://www.indybay.org/newsitems/2017/06/09/18800043.php
SUMMARY:CODEPINK Monthly Golden Gate Bridge WALK for PEACE
LOCATION:Noon:  Golden Gate Bridge, San Francisco\nGather at Bridge Plaza (across 
 the street from the parking lot), SF side.\nWe’ll walk to the middle of 
 the bridge and back.\n(Unlikely to be a Marin side contingent since Toby 
 will be out of town)
URL:https://www.indybay.org/newsitems/2017/06/09/18800043.php
DTSTART:20170611T190000Z
DTEND:20170611T210000Z
END:VEVENT
END:VCALENDAR
