BEGIN:VCALENDAR
VERSION:2.0
X-WR-CALNAME:www.indybay.org
PRODID:-//indybay/ical// v1.0//EN
BEGIN:VEVENT
UID:Indybay-18799929
SEQUENCE:18936670
CREATED:20170605T043200Z
DESCRIPTION:PSL Public Forum • Foro Público del PSL \nNorth Korea or the U.S.? 
 Who’s the real aggressor?\nFriday, June 9, 7pm2969 Mission St., SFShare 
 Facebook event\n\nFeatured speaker Christine Hong is an associate professor 
 at the University of California, Santa Cruz, and an executive board member 
 of the Korea Policy Institute. She has spent time in North Korea, including 
 as part of a North American peace delegation.North Korea (DPRK), is 
 surrounded by vast U.S. military power, including hundreds of nuclear 
 weapons on submarines sitting right off its coast. Yet, in the corporate 
 media, it is North Korea that is demonized and accused of being the 
 aggressor, despite making a proposal that could immediately end the danger 
 of a disastrous new war. Also, the Duterte Regime & Trump: Philippine 
 President Rodrigo Duterte has declared martial law in Mindinao, and is 
 waging a murderous campaign against poor people throughout the country, 
 with the full backing of Pres. Trump. Join us for presentations and 
 discussion on the current situation in Korea and the Philippines. \n2969 
 Mission St. Near 24th St. BART, #14, 49 MUNI\n$3 - $10 donation requested, 
 no one turned away for lack of funds.Refreshments served. Wheelchair 
 accessible. More info: 415-821-6171 or http://www.PSLweb.org.Visit 
 http://www.PSLweb.org to read daily news and anaylsis from a Marxist 
 perspective.Visit http://www.PSLweb.org to purchase our other 
 publications.Foro Público del PSL\n¿Corea del Norte o los EE.UU.? 
 ¿Quién es el Agresor Verdadero?\nViernes, 9 de junio,7pm2969 Calle 
 Mission, San Francisco\nPresentadora: Christine Hong es profesora asociada 
 en la Universidad de California, Santa Cruz y miembro de Comité Ejecutivo 
 del Instituto de Política hacia de Corea. Ha pasado tiempo en Corea del 
 Norte, incluyendo como parte de una delegación de paz norteamericana.Corea 
 del Norte (RPDC) está rodeado por una vasta potencia militar 
 estadounidense, incluyendo cientos de armas nucleares en submarinos que se 
 encuentran justo al lado de su costa inmediata. Sin embargo, en los medios 
 corporativos, Corea del Norte es demonizada y acusada de ser el agresor, a 
 pesar de haber hecho una propuesta que podría poner un fin inmediato al 
 peligro de una nueva guerra desastrosa. También, el Régimen de Duterte y 
 Trump: El Presidente filipino Rodrigo Duterte ha declardo la ley marcial en 
 Mindinao, y está llevando a cabo una campaña asesina contra los pobres en 
 todo el país, con el apoyo completo del Presidente Trump. Acompáñenos 
 para presentaciones y discusión sobre la situación actual en Corea y 
 Filipinas.\n2969 Calle Mission esquiná de la calle 25 y 26, acerca de 
 BART/24 St., MUNI #14, 49.\nSugerimos una donación de $3 a $10, todos 
 bienvenidos, con o sin fondos.\nHabrá antojitos.\nPara mayor información 
 llame al PSL, en 415-821-6171 o www.PSLweb.org.\nVisite nuestra página 
 web: http://www.pslweb.org del día y análisis desde un punto de vista 
 Marxista.\nVaya para http://www.pslweb.org leer selecciones actuales y 
 publicaciones anteriores.\n\n\n 
 https://www.indybay.org/newsitems/2017/06/04/18799929.php
SUMMARY:Forum: North Korea or the U.S.? Who’s the real aggressor?
LOCATION:2969 Mission St. Near 24th St. BART, #14, 49 MUNI
URL:https://www.indybay.org/newsitems/2017/06/04/18799929.php
DTSTART:20170610T020000Z
DTEND:20170610T040000Z
END:VEVENT
END:VCALENDAR
