BEGIN:VCALENDAR
VERSION:2.0
X-WR-CALNAME:www.indybay.org
PRODID:-//indybay/ical// v1.0//EN
BEGIN:VEVENT
UID:Indybay-18799841
SEQUENCE:18936552
CREATED:20170531T195900Z
DESCRIPTION:The Gateway Bug Documentary is having its Bay Area premiere at the 16th SF 
 Doc Fest presented by SF IndieFest\n\nOver 2 billion people on Earth rely 
 on eating insects for protein. Following the rise and dramatic fall of 
 edible insect start-ups in the United States, The Gateway Bug exposes 
 America’s disconnect with food as climate catastrophe, uncovering daily 
 habits that can fix the broken food system, one meal at a time. From the 
 front lines of climate-affected communities to commercial cricket farms in 
 the Rust Belt and bug eating festivals, the film ignites social change 
 through education and empowerment.\n 
 https://www.indybay.org/newsitems/2017/05/31/18799841.php
SUMMARY:'The Gateway Bug' at SF Doc Fest
LOCATION:The Vogue Theater \n3290 Sacramento St at Presidio
URL:https://www.indybay.org/newsitems/2017/05/31/18799841.php
DTSTART:20170611T041500Z
DTEND:20170611T054500Z
END:VEVENT
END:VCALENDAR
