BEGIN:VCALENDAR
VERSION:2.0
X-WR-CALNAME:www.indybay.org
PRODID:-//indybay/ical// v1.0//EN
BEGIN:VEVENT
UID:Indybay-18799837
SEQUENCE:18936506
CREATED:20170531T030300Z
DESCRIPTION:6/17/17 SF Radical Acoustic Concert\n 
 https://www.indybay.org/newsitems/2017/05/30/18799837.php
SUMMARY:SF Radical Acoustic Concert
LOCATION:200 Fillmore St.\nSan Francisco
URL:https://www.indybay.org/newsitems/2017/05/30/18799837.php
DTSTART:20170617T190000Z
DTEND:20170617T190000Z
END:VEVENT
END:VCALENDAR
