BEGIN:VCALENDAR
VERSION:2.0
X-WR-CALNAME:www.indybay.org
PRODID:-//indybay/ical// v1.0//EN
BEGIN:VEVENT
UID:Indybay-18799787
SEQUENCE:18936402
CREATED:20170529T012700Z
DESCRIPTION:Housing is a right, but unless you have the money that right slips away 
 pretty fast here in Santa Cruz!\n\nWe want to hear the problems you face in 
 your own housing situation and to talk about ways to deal with the struggle 
 of renting here. Come by (there's gonna be food!) to meet your neighbors, 
 learn about your rights, and talk about what renters need to do during this 
 housing crisis!\n\n 
 https://www.indybay.org/newsitems/2017/05/28/18799787.php
SUMMARY:Downtown Santa Cruz Neighborhood Meeting
LOCATION:SubRosa Community Space\n703 Pacific Ave, Santa Cruz, California 95060
URL:https://www.indybay.org/newsitems/2017/05/28/18799787.php
DTSTART:20170614T010000Z
DTEND:20170614T030000Z
END:VEVENT
END:VCALENDAR
