BEGIN:VCALENDAR
VERSION:2.0
X-WR-CALNAME:www.indybay.org
PRODID:-//indybay/ical// v1.0//EN
BEGIN:VEVENT
UID:Indybay-18799689
SEQUENCE:18936317
CREATED:20170524T143500Z
DESCRIPTION:Feed The People!\n\nThe last Sunday of every month attendees of the OO GA 
 will get together a little earlier than usual, at 3 PM (2 PM in the winter) 
 to share some food with each other and the community.  There will be a 
 table and utensils/plates, meat and veggie entrees and whatnot courtesy of 
 the Kitchen Committee (such at it is), so just bring yourself and, if you 
 like, something to share.\n\n Eat-the-Rich-bon apetit\n\nThe Occupy Oakland 
 General Assembly meets every Sunday at 4 PM at Oscar Grant Plaza 
 amphitheater. If it is raining (as in RAINING, not just misting) at 3:00 PM 
 we meet in the basement of the Omni Collective, 4799 Shattuck Ave., 
 Oakland. During the colder months we tend to meet at 3 PM.\n\nThe General 
 Assembly has met on a continuous basis for more than five years! Our 
 General Assembly is a participatory gathering of Oakland community members 
 and beyond, where everyone who shows up is treated equally . Our Assembly 
 and the process we have collectively cultivated strives to reach agreement 
 while building community.\n\nAt the GA committees, caucuses, and loosely 
 associated groups whose representatives come voluntarily report on past and 
 future actions, with discussion. If you like, just come and hear all the 
 organizing being done! Occupy Oakland encourages political activity that is 
 decentralized and welcomes diverse voices and actions into the movement.\n 
 https://www.indybay.org/newsitems/2017/05/24/18799689.php
SUMMARY:Community Feed before Occupy Oakland General Assembly
LOCATION:Oscar Grant Plaza amphitheater, outside City Hall\n14th & Broadway, 
 Oakland, CA
URL:https://www.indybay.org/newsitems/2017/05/24/18799689.php
DTSTART:20170528T220000Z
DTEND:20170528T230000Z
END:VEVENT
END:VCALENDAR
