BEGIN:VCALENDAR
VERSION:2.0
X-WR-CALNAME:www.indybay.org
PRODID:-//indybay/ical// v1.0//EN
BEGIN:VEVENT
UID:Indybay-18799641
SEQUENCE:18936217
CREATED:20170522T191100Z
DESCRIPTION:San Francisco’s World Refugee Day-The public is invited to an afternoon 
 of cultural performances, international food, music, speakers, a talent 
 show, a costume show and more to celebrate the courage and contributions of 
 refugees, and reaffirm San Francisco’s commitment to integrating 
 immigrants and remaining a Sanctuary City and a Welcoming Community. 
 \n\nThe afternoon event is supported by the San Francisco Department of 
 Public Health and San Francisco Human Services Agency and is hosted by 
 Arriba Juntos and SF-Coalition of Asylee, Immigrant, and Refugee Services 
 (SF-CAIRS).\n\nWHEN:	\nFriday, June 16, 12 noon to 3:30 
 pm\n\nSchedule:\nSpecial Program from main stage, 1:00 pm\n\nWHERE:	\n1850 
 Mission Street, San Francisco \n\nWHO:	\n1:00 pm program to feature: \nThe 
 California Refugee Programs Bureau Chief, Sysvahn Kabkeo\nTrent Rhorer, 
 Executive Director, Human Services Agency\n\nPlus more speakers and 
 participants to be announced soon.\n\nTICKETS AND INFO:\nThe event is free 
 and open to the public. For further information please visit 
 www.sf-cairs.org or call 415-487-3247. \nTo participate in the talent show 
 or costume show, or to have your organization host a table, please contact 
 vmagallanes@arribajuntos.org or 415-487-3247. \n\nBACKGROUND:	\nWorld 
 Refugee Day has been marked on June 20 ever since the UN General Assembly 
 adopted resolution 55/76 in December 2000 where it noted that 2001 marked 
 the 50th anniversary of the 1951 Convention relating to the Status of 
 Refugees, and that the Organization of African Unity (OAU) had agreed to 
 have International Refugee Day coincide with Africa Refugee Day on June 
 20.\n\n https://www.indybay.org/newsitems/2017/05/22/18799641.php
SUMMARY:San Francisco's World Refugee Day
LOCATION:1850 Mission Street, San Francisco
URL:https://www.indybay.org/newsitems/2017/05/22/18799641.php
DTSTART:20170616T190000Z
DTEND:20170616T220000Z
END:VEVENT
END:VCALENDAR
