BEGIN:VCALENDAR
VERSION:2.0
X-WR-CALNAME:www.indybay.org
PRODID:-//indybay/ical// v1.0//EN
BEGIN:VEVENT
UID:Indybay-18799438
SEQUENCE:18935932
CREATED:20170516T034400Z
DESCRIPTION:After decades struggling to protect her ancestors’ burial places, now 
 engulfed by San Francisco’s sprawl, a Native woman from a non-federally 
 recognized Ohlone tribe and her allies occupy a sacred site to prevent its 
 desecration. When this life-altering event fails to stop the development, 
 they vow to follow a new path- to establish the first women-led urban 
 Indigenous land trust. Beyond Recognition explores the quest to preserve 
 one’s culture and homeland in a society bent on erasing them.\n\nQ&A with 
 the director, Michelle Steinberg and Corrina Gould, lead organizer for 
 Indian People Organizing for Change after the screening\n\nWe will also 
 show a preview of Michell Steinberg's new film, MET(T)A\n\n$5, NOTAFLOF (no 
 one turned away for lack of funds)\n\nfree snacks and popcorn!\n 
 https://www.indybay.org/newsitems/2017/05/15/18799438.php
SUMMARY:Liberated Lens film night: Beyond Recognition
LOCATION:Oakland Omni Commons\n4799 Shattuck Ave
URL:https://www.indybay.org/newsitems/2017/05/15/18799438.php
DTSTART:20170605T020000Z
DTEND:20170605T043000Z
END:VEVENT
END:VCALENDAR
