BEGIN:VCALENDAR
VERSION:2.0
X-WR-CALNAME:www.indybay.org
PRODID:-//indybay/ical// v1.0//EN
BEGIN:VEVENT
UID:Indybay-18799363
SEQUENCE:18935897
CREATED:20170512T232100Z
DESCRIPTION:Paul Madonna will discuss his latest book On to the Next Dream at Mad Monk 
 Center for Anachronistic Media at 2454 Telegraph Ave in Berkeley. For more 
 info call 510 900 1563 or contact Cameron Jackson, Events Director 
 cmonk@rasputinmusic.com\n 
 https://www.indybay.org/newsitems/2017/05/12/18799363.php
SUMMARY:Paul Madonna at Mad Monk, Berkeley
LOCATION:Mad Monk Center for Anachronistic Media, 2454 TELEGRAPH AVE, BERKELEY, 
 CALIFORNIA 94704
URL:https://www.indybay.org/newsitems/2017/05/12/18799363.php
DTSTART:20170618T010000Z
DTEND:20170618T030000Z
END:VEVENT
END:VCALENDAR
