BEGIN:VCALENDAR
VERSION:2.0
X-WR-CALNAME:www.indybay.org
PRODID:-//indybay/ical// v1.0//EN
BEGIN:VEVENT
UID:Indybay-18799322
SEQUENCE:18935765
CREATED:20170511T204000Z
DESCRIPTION:The Strawberry Justice Festival is an annual event held to discuss 
 injustices in the area of strawberry agricultural production in California 
 and as well as local community oppression. \n\nThis is a FREE event and 
 will be held on Wednesday, May 17th from 4-6:30pm. Our event will include 
 live music, fresh organic strawberries engaging tabling activities, and a 
 great space to engage around land and social issues surrounding strawberry 
 production.\n\nMore details coming soon!\n 
 https://www.indybay.org/newsitems/2017/05/11/18799322.php
SUMMARY:Strawberry and Justice Festival 2017
LOCATION:UC Santa Cruz\nCASFS Hay Barn near the intersection of Coolidge Drive and 
 Ranch View by the base of campus
URL:https://www.indybay.org/newsitems/2017/05/11/18799322.php
DTSTART:20170517T230000Z
DTEND:20170518T013000Z
END:VEVENT
END:VCALENDAR
