BEGIN:VCALENDAR
VERSION:2.0
X-WR-CALNAME:www.indybay.org
PRODID:-//indybay/ical// v1.0//EN
BEGIN:VEVENT
UID:Indybay-18799260
SEQUENCE:18935685
CREATED:20170508T205800Z
DESCRIPTION:Discusing the subject of his new book, Masquarade: Treason, the Holocaust, 
 and an Irish Imposter, co-authored by Mark Hull and Vera Moynes.\n\n 
 https://www.indybay.org/newsitems/2017/05/08/18799260.php
SUMMARY:Mark Hull at City Lights!
LOCATION:City Lights Bookstore. 261 Columbus Avenue, San Francisco, CA, 94133.\n
URL:https://www.indybay.org/newsitems/2017/05/08/18799260.php
DTSTART:20170613T020000Z
DTEND:20170613T040000Z
END:VEVENT
END:VCALENDAR
