BEGIN:VCALENDAR
VERSION:2.0
X-WR-CALNAME:www.indybay.org
PRODID:-//indybay/ical// v1.0//EN
BEGIN:VEVENT
UID:Indybay-18799173
SEQUENCE:18935512
CREATED:20170505T052300Z
DESCRIPTION:Art Practice Makes Art Pervert is a solo exhibition by Bay Area-based 
 artist Dorian Katz curated by Dorothy R. Santos. Her drawing series 120 
 Days of Sodomy appropriates the Marquis de Sade's book title 120 Days of 
 Sodom. While Katz' non-human beings don recognizable human characteristics, 
 they are whimsical and sometimes political hybrids and chimeras. Katz 
 imagines a sex utopia that ponders what it would be like if humans were 
 socialized like other species such as the bonobo monkey. Each drawing works 
 towards understanding gender non-conforming beings through vibrant 
 characters engaging in extreme sex acts, uninhibited gender expression and 
 sexual liberation.\n 
 https://www.indybay.org/newsitems/2017/05/04/18799173.php
SUMMARY:Art Practice Makes Art Pervert: Opening Reception
LOCATION:Center for Sex and Culture; 1349 Mission St, San Francisco, CA 94103
URL:https://www.indybay.org/newsitems/2017/05/04/18799173.php
DTSTART:20170603T010000Z
DTEND:20170603T040000Z
END:VEVENT
END:VCALENDAR
