BEGIN:VCALENDAR
VERSION:2.0
X-WR-CALNAME:www.indybay.org
PRODID:-//indybay/ical// v1.0//EN
BEGIN:VEVENT
UID:Indybay-18798744
SEQUENCE:18934847
CREATED:20170424T155400Z
DESCRIPTION:Trump/Pence Regime is a Fascist Regime. Not insult or exaggeration, this is 
 what it is. For the future of humanity and the planet , we, the people must 
 drive this regime out. \n\nJoin with others from different perspectives to 
 engage and learn about the nature of this administration, what this will 
 mean for humanity and what we can do to stop it.  Now is a crucial time for 
 people to deeply confront what is actually happening in this country and 
 act.  This teach in is part of efforts on campuses around the country to 
 mobilize to oust the regime.  Come, bring your friends, learn and teach the 
 truth about Trump's America and get organized to stop them before it's too 
 late.   \n https://www.indybay.org/newsitems/2017/04/24/18798744.php
SUMMARY:Refuse Fascism Teach-In @ SFSU
LOCATION:San Francisco State University, Cesar Chavez Student Union, Richard Oakes 
 Multicultural Center
URL:https://www.indybay.org/newsitems/2017/04/24/18798744.php
DTSTART:20170425T200000Z
DTEND:20170425T220000Z
END:VEVENT
END:VCALENDAR
