BEGIN:VCALENDAR
VERSION:2.0
X-WR-CALNAME:www.indybay.org
PRODID:-//indybay/ical// v1.0//EN
BEGIN:VEVENT
UID:Indybay-18798201
SEQUENCE:18933933
CREATED:20170410T171700Z
DESCRIPTION:“First They Came for the Homeless”\nSpeakers for a New America 
 Tour\n\nPlease join us in a California speaking tour of front line leaders 
 in the movement to end homelessness in America. Proceeds from the Tour will 
 benefit the People’s Tribune, in order to finance papers for homeless and 
 other writers to distribute so they can tell their 
 stories.\n\nSpeakers:\n.\nMike Zint – SF/Berkeley - homeless leader from 
 ‘OccupySF, founding member of ‘First they came for the homeless’ and 
 the Poor Tour intentional tent community/action \n.\nBilal Mafundi Ali – 
 SF - People’s Commission for Justice and the San Francisco Coalition on 
 Homelessness \n.\nSilvia Hernandez – Los Angeles - homeless organizer on 
 LA’s Skid Row \n.\nGena Mercer – Merced - homeless organizer, Central 
 Valley Journey for Justice\n.\nRobert Aguirre - San Jose - co-founder of 
 the grassroots organization H.O.M.E.L.E.S.S.\n~\nJack Hirschman will read 
 his powerful poem ‘Home’, written for the National Union of the 
 Homeless \n~\n\nSuggested donation $3-5 – no one turned away\n 
 https://www.indybay.org/newsitems/2017/04/10/18798201.php
SUMMARY:First They Came for the Homeless' Speak-Out
LOCATION:The Luggage Store Gallery\n1007 Market Street, San Francisco, California 
 94103
URL:https://www.indybay.org/newsitems/2017/04/10/18798201.php
DTSTART:20170423T010000Z
DTEND:20170423T030000Z
END:VEVENT
END:VCALENDAR
