BEGIN:VCALENDAR
VERSION:2.0
X-WR-CALNAME:www.indybay.org
PRODID:-//indybay/ical// v1.0//EN
BEGIN:VEVENT
UID:Indybay-18798050
SEQUENCE:18933671
CREATED:20170406T150100Z
DESCRIPTION:Demand Trump's Taxes\n 
 https://www.indybay.org/newsitems/2017/04/06/18798050.php
SUMMARY:Tax March! Demand Trumps taxes!
LOCATION:Alex Thomas Plaza, 310 S State St, Ukiah, California 95482
URL:https://www.indybay.org/newsitems/2017/04/06/18798050.php
DTSTART:20170415T180000Z
DTEND:20170415T200000Z
END:VEVENT
END:VCALENDAR
