BEGIN:VCALENDAR
VERSION:2.0
X-WR-CALNAME:www.indybay.org
PRODID:-//indybay/ical// v1.0//EN
BEGIN:VEVENT
UID:Indybay-18798032
SEQUENCE:18933896
CREATED:20170405T234200Z
DESCRIPTION:Monthly CODEPINK GOLDEN GATE BRIDGE WALK for PEACE:\n\nUPDATE: \n\nSUNDAY, 
 April 9th at Noon \n\nWe had such a great response to our theme last month, 
 we’re doing it again! \n\nLate breaking news:  With the war on Syria now 
 in the news, our Immigrant/Refugee focus will be shared with PEACE with 
 SYRIA. Solidarity signs for the people of Syria are also very welcome. 
 \n\nOver 50 cruise missiles fired on Syria on 4/6!\n\nTheme: SANCTUARY FOR 
 IMMIGRANTS AND REFUGEES / PEACE WITH SYRIA\n\nSee this article from the New 
 York Times for an update on California, the SANCTUARY STATE: 
 \nhttps://www.nytimes.com/2017/04/04/us/california-today-defying-trump-with-sanctuary-bill.html 
 \n\nNoon:  Gather at Bridge Plaza, SF side.....walk to middle of bridge and 
 back.\n(Unlikely to be a Marin side contingent this month)\n\nWe’ll 
 assemble for photos both before and after the walk, and will display 
 signage for motorists and pedestrians as we walk the bridge.\n\nBridge 
 walkers from all over the world often join us and take pictures.\n\nJoin 
 CODEPINK and share our LOVE for Immigrants and Refugees!\n\nMark your 
 calendars: Next Bridge Walk is on Mothers’ Day, Sunday, May 14th\n\nBUILD 
 BRIDGES, NOT WALLS\nSUPPORT IMMIGRANTS, NOT IGNORANCE\nBAN HATE, DEPORT 
 TRUMP\nWE LOVE IMMIGRANTS\nWE LOVE REFUGEES\nGIVE US YOUR POOR, ...\nRISE, 
 LOVE, RESIST\n https://www.indybay.org/newsitems/2017/04/05/18798032.php
SUMMARY:CODEPINK Golden Gate Bridge Walk for Peace
LOCATION:Gather at GG Bridge Plaza, SF side.....walk to middle of bridge and back.
URL:https://www.indybay.org/newsitems/2017/04/05/18798032.php
DTSTART:20170409T190000Z
DTEND:20170409T210000Z
END:VEVENT
END:VCALENDAR
