BEGIN:VCALENDAR
VERSION:2.0
X-WR-CALNAME:www.indybay.org
PRODID:-//indybay/ical// v1.0//EN
BEGIN:VEVENT
UID:Indybay-18797850
SEQUENCE:18933384
CREATED:20170330T205700Z
DESCRIPTION:Join us for a flood of inspiration and celebration in this action-packed, 
 fun-filled two-day event. It all starts this evening, from 5-8pm, with a 
 First-Friday community build of kinetic art in partnership with the Santa 
 Cruz Museum of Art and History, along with a River Critter Scavenger Hunt 
 sponsored by the Downtown Association. Then don’t miss the River 
 Nightwalk at 9pm, with a glow-stick stroll along the Riverwalk and an art 
 installation lighting ceremony. It’s a community affair fit for the whole 
 family. Details and schedule can be found at 
 www.artscouncilsc.org/ebb-flow\n 
 https://www.indybay.org/newsitems/2017/03/30/18797850.php
SUMMARY:Ebb & Flow River Arts Project — First Friday Events
LOCATION:Downtown Santa Cruz on Cooper Street between Front and Pacific
URL:https://www.indybay.org/newsitems/2017/03/30/18797850.php
DTSTART:20170603T000000Z
DTEND:20170603T050000Z
END:VEVENT
END:VCALENDAR
