BEGIN:VCALENDAR
VERSION:2.0
X-WR-CALNAME:www.indybay.org
PRODID:-//indybay/ical// v1.0//EN
BEGIN:VEVENT
UID:Indybay-18797707
SEQUENCE:18933179
CREATED:20170325T222300Z
DESCRIPTION:Join us for discussion on the current work that the Bay Area chapter of the 
 Committee in\nSolidarity with the People of El Salvador (CISPES) is doing 
 to stop\nthe U.S.-sponsored border militarization in Central America 
 and\nrepression against migrants from Central America. We also are 
 discussing\nthe potential of starting an East Bay chapter of CISPES.\n\nThe 
 meeting is tomorrow, Sunday, March 26, from 2 p.m. to 4 p.m., at 
 Corazon\ndel Pueblo in Oakland. We will have food and lively 
 discussion.\n\nIt will be at Corazon del Pueblo, 4814 International 
 Boulevard, Oakland, 94601.\n\n 
 https://www.indybay.org/newsitems/2017/03/25/18797707.php
SUMMARY:CISPES Meeting
LOCATION:Corazon del Pueblo at 4814 International Boulavard, Oakland
URL:https://www.indybay.org/newsitems/2017/03/25/18797707.php
DTSTART:20170326T210000Z
DTEND:20170326T230000Z
END:VEVENT
END:VCALENDAR
