BEGIN:VCALENDAR
VERSION:2.0
X-WR-CALNAME:www.indybay.org
PRODID:-//indybay/ical// v1.0//EN
BEGIN:VEVENT
UID:Indybay-18797648
SEQUENCE:18933139
CREATED:20170323T190900Z
DESCRIPTION:Jimmy Panetta and Anna Eschoo will be giving a Town Hall this Saturday the 
 25th, at New Brighton Middle School, Performing Arts Center, 250 Washburn 
 Ave. Capitola from 10:00am to 11:30am. Let's attend and let our elected 
 officials know that the agenda of the current administration is NOT 
 acceptable.\n\nTown Hall with Jimmy Panetta and Anna Eschoo, moderated by 
 John Laird at New Brighton Middle School 250 Washburn Ave., Capitola, Ca. 
 10:00am- 11:30am. Let's attend, bring signs and our voices and let our 
 elected officials know that the current administration is unacceptable and 
 will NOT stand. This meeting is this Saturday, March 25th. LET'S BE 
 THERE!\n https://www.indybay.org/newsitems/2017/03/23/18797648.php
SUMMARY:NEW DATE: Jimmy Panetta and Ana Eschoo Town Hall in Capitola
LOCATION:New Brighton Middle School, Performing Arts Center, 250 Washburn Ave. 
 Capitola
URL:https://www.indybay.org/newsitems/2017/03/23/18797648.php
DTSTART:20170401T170000Z
DTEND:20170401T183000Z
END:VEVENT
END:VCALENDAR
