BEGIN:VCALENDAR
VERSION:2.0
X-WR-CALNAME:www.indybay.org
PRODID:-//indybay/ical// v1.0//EN
BEGIN:VEVENT
UID:Indybay-18797522
SEQUENCE:18932970
CREATED:20170318T215500Z
DESCRIPTION:Learn about how a new, small, friendly group is offering people a chance to 
 help push back against the Trump/Republican agenda. Participate as much as 
 you like via our teams focused on using Media, Economic, Legal, and 
 Solidarity actions.  Thanks!\n 
 https://www.indybay.org/newsitems/2017/03/18/18797522.php
SUMMARY:Action SF General Meeting - Open to All
LOCATION:Noe Valley Public Library \n451 Jersey St, San Francisco,
URL:https://www.indybay.org/newsitems/2017/03/18/18797522.php
DTSTART:20170326T220000Z
DTEND:20170326T233000Z
END:VEVENT
END:VCALENDAR
