BEGIN:VCALENDAR
VERSION:2.0
X-WR-CALNAME:www.indybay.org
PRODID:-//indybay/ical// v1.0//EN
BEGIN:VEVENT
UID:Indybay-18797369
SEQUENCE:18932680
CREATED:20170313T154800Z
DESCRIPTION:Sunday Morning at the Marxist Library\n\nChina: Understanding Society, 
 Economics,\nPolitics, and US-China Relations.\n\n   Currently working in 
 China, Lee Siu Hin, the long-time Chinese-American community activist and 
 fomer Pacifica radio reporter, give us a deeper understanding about the 
 China's views on China-US relations, globalization, the "One Belt, One Road 
 Initiative" and the recent US deployment of Terminal High Altitude Area 
 Defence (THAAD) in South Korea against North Korea/China/Russia.\n   
 About the speaker:  Lee Siu Hin - Born in Hong Kong, China, and loot of 
 fifth generation Chinese migrant from Japan. Lee is the long-time 
 international activist for over 40-years, he’s the national coordinator 
 of National Immigrant Solidarity Network, Action LA Network, coordinating 
 committee member of UFPJ, and long-time reporter for Pacifica Radio 
 KPFK-Los Angeles, reporting from former Yugoslavia, former Soviet Union, 
 Angola, Mozambique, South Africa, Rwanda, Democratic Republic of Congo, 
 Iraq Mexico. Currently, he’s also travel between China and U.S. to 
 organize bi-national activism work as well as medical solidarity 
 project.\n\nSun, Mar 19, 2017: 10:30 am to 12:30 pm\nNiebyl-Proctor Marxist 
 Library\n6501 Telegraph Avenue, Oakland (just North of Alcatraz 
 Ave.)\n\nFREE - but hat will be passed for donations to NPML\n\nAbout 
 Sunday Morning at the Marxist Library\nA weekly discussion series inspired 
 by our respect for the work of Karl Marx and our belief that his work will 
 remain as important for the class struggles of the future as they have been 
 for the past. \n\nFor info or to subscribe to our weekly announcements, 
 \nCall Gene Ruyle at 510-332-3865 or email: cuyleruyle@mac.com\nFor our 
 full schedule, go to icssmarx.org \n 
 https://www.indybay.org/newsitems/2017/03/13/18797369.php
SUMMARY:China: Understanding Society, Economics, Politics, and US-China Relations.
LOCATION:Niebyl-Proctor Marxist Library\n6501 Telegraph Avenue, Oakland (just North 
 of Alcatraz Ave.)
URL:https://www.indybay.org/newsitems/2017/03/13/18797369.php
DTSTART:20170319T173000Z
DTEND:20170319T193000Z
END:VEVENT
END:VCALENDAR
