BEGIN:VCALENDAR
VERSION:2.0
X-WR-CALNAME:www.indybay.org
PRODID:-//indybay/ical// v1.0//EN
BEGIN:VEVENT
UID:Indybay-18797104
SEQUENCE:18932243
CREATED:20170307T025600Z
DESCRIPTION:A peaceful solidarity rally in support of refugees, immigrants, and 
 muslims, to resist Trump's executive order. We will be meeting in the 
 International Arrivals Terminal of SFO on the first floor.\n\n 
 https://www.indybay.org/newsitems/2017/03/06/18797104.php
SUMMARY:#NoBanNoWall SFO Solidarity Rally
LOCATION:San Francisco International Airport. International Arrivals.\nToday at 7:30 
 PM - 12 AM
URL:https://www.indybay.org/newsitems/2017/03/06/18797104.php
DTSTART:20170307T033000Z
DTEND:20170307T083000Z
END:VEVENT
END:VCALENDAR
