BEGIN:VCALENDAR
VERSION:2.0
X-WR-CALNAME:www.indybay.org
PRODID:-//indybay/ical// v1.0//EN
BEGIN:VEVENT
UID:Indybay-18797088
SEQUENCE:18932225
CREATED:20170306T203200Z
DESCRIPTION:The 45th Annual Muir Beach Volunteer Firemen’s Barbecue is a fun event 
 for the whole family with delicious food, activities for the kids, and 
 dancing to live music by local favorites Andre Pessis and his All-Stars and 
 opening band Soul Ska. An annual Memorial Day Weekend tradition in Marin, 
 the event this year takes place on Sunday, May 28, from noon to 5pm at 
 Santos Meadows on Frank Valley Road.  Just follow the signs from Muir Beach 
 or Muir Woods.\n\nThe Firemen’s Barbecue is a festive gathering and 
 fundraiser for the Muir Beach Volunteer Fire Department.  Some of Marin and 
 the Bay Area’s best musicians will rock the stage while Muir Beach 
 firefighters and community members tend to smoky grills.  Sought after 
 raffle prizes are offered and, for the kids, there is a special play zone 
 with climbing walls and bounce houses. \n\nBarbecue chicken and vegetarian 
 tamale lunches, desserts, plus sodas, beer and wine will be available for 
 purchase, as are clothing and other items featuring the famous Muir Beach 
 Volunteer Fire Department iconic dog logo.  The day’s activities end with 
 a raffle of more than 100 prizes that include fantastic accommodations, 
 airline tickets and gift certificates from popular Bay Area and beyond 
 restaurants and attractions. \n\nThe Annual Firemen’s Barbecue is free 
 and open to the public, however the event is a fundraiser for the Muir 
 Beach Volunteer Fire Department and donations and purchases of merchandise, 
 food, beverages and raffle tickets are encouraged and appreciated. 
 \nParking is $20 per vehicle; carpooling is encouraged. \n\nFor further 
 details, please call (415) 381-8793 or check out 
 www.muirbeachfire.com.\nAbout the Muir Beach Volunteer Fire 
 Department:\nMuir Beach Volunteer Firefighters embody the essence of what 
 makes Muir Beach great; the spirit of community, the willingness to step up 
 and volunteer, and the desire to help others with no expectation for reward 
 other than knowing that their actions make a difference.\nTraining closely 
 with Marin County Firefighters at the Throckmorton station, Muir Beach 
 Firefighters are required, at a minimum, to hold and maintain an E.M.R 
 (Emergency Medical Responder) and State Volunteer Firefighter certificate. 
 The group also includes one M.D. (Medical Doctor) and one E.M.T. (Emergency 
 Medical Technician).\n\nThe result is a highly skilled group of unpaid 
 experts who respond to a full range of emergency situations, from structure 
 and wild land fires, vehicle accidents to medical emergencies and 
 everything in between. In addition to the tremendous amount of time and 
 effort each volunteer gives towards training and providing emergency 
 services 24/7, the Muir Beach Volunteer Fire Department also provides 
 various community services and educational programs to the residents of 
 Muir Beach such as CPR/AED, first aid, fire extinguisher instruction and 
 servicing, water safety, community emergency preparedness, and fuel 
 abatement program. To learn more about the MBVFD, please visit: 
 MuirBeachFire.com.\n\nWHAT: 	The 45th Annual Muir Beach Volunteer 
 Firemen’s Barbecue\n\nWHEN: 	Sunday, May 28, from noon to 5 
 pm\n\nWHERE:	Santos Meadows on Frank Valley Road – a few miles west of 
 the National Park entrance. Follow the signs from Muir Beach or Muir 
 Woods.\n\nTICKETS:	Event entrance is free; parking is $20 per vehicle 
 \n\nINFO:	Call (415) 381-8793 or check out www.muirbeachfire.com\n\n 
 https://www.indybay.org/newsitems/2017/03/06/18797088.php
SUMMARY:The 45th Annual Muir Beach Volunteer Firemen’s Barbecue
LOCATION:Santos Meadows, near Muir Woods on Frank Valley Road in Mill Valley
URL:https://www.indybay.org/newsitems/2017/03/06/18797088.php
DTSTART:20170528T190000Z
DTEND:20170529T000000Z
END:VEVENT
END:VCALENDAR
