BEGIN:VCALENDAR
VERSION:2.0
X-WR-CALNAME:www.indybay.org
PRODID:-//indybay/ical// v1.0//EN
BEGIN:VEVENT
UID:Indybay-18797024
SEQUENCE:18932129
CREATED:20170304T195800Z
DESCRIPTION:Reception March 10, 5:30-8pm, Exhibition through May 5\n\nOFFCUTS is a 
 collection of work and collaborations inspired by what is left behind. The 
 incidental shapes and forms, cut and discarded, reimagined as entirely new 
 works. It was originally inspired by the vast amount of offcuts from a 
 furniture commission in which over 50% of the material was surplus shapes. 
 Eran and Roland created four generations of pieces from the same original 
 material. Each one directly inspired and defined by the one before 
 it.\n\nEran and Roland have been working together as [RE]Union Creative 
 since 2015. Together they collaborate on custom furniture, architectural 
 elements and sculpture in the Bay Area.\n\nMany thanks to Bayshore Metals 
 for donating their offcuts.\n\nCome see this great show! Up until May 5th, 
 with an opening reception to be held March 10th.\nGo to reclaimedroom.com 
 for photos of their work.\n\nFree\n 
 https://www.indybay.org/newsitems/2017/03/04/18797024.php
SUMMARY:Offcuts, with Roland Blandy and Eran Dayan
LOCATION:Reclaimed Room at Building REsources\n701 Amador Street\nSan Francisco, CA 
 94124
URL:https://www.indybay.org/newsitems/2017/03/04/18797024.php
DTSTART:20170311T013000Z
DTEND:20170311T040000Z
END:VEVENT
END:VCALENDAR
