BEGIN:VCALENDAR
VERSION:2.0
X-WR-CALNAME:www.indybay.org
PRODID:-//indybay/ical// v1.0//EN
BEGIN:VEVENT
UID:Indybay-18796830
SEQUENCE:18931837
CREATED:20170226T202100Z
DESCRIPTION:Escuela Comunitaria presents:\n\nThis dialogue in the Latino community will 
 be an evening of telling our stories, and the first showing of the new film 
 'Where the Guns Go', a documentary on U.S. weapons and testimonies of 
 victims of organized crime and the drug war in Mexico. 
 \n\n===========\nEscuela Comunitaria presenta:\nRespondiendo a Trump y Que 
 Hacer:\nLuchando contra la Violencia del Estado y Desplazamiento 
 Forzado\n\nUna noche de dialogo entre la comunidad latina para compartir 
 nuestras historias, y mostrar por primera vez el documental 'A donde llegan 
 las armas', sobre las armas de Estados Unidos y testimonios de victimas del 
 crimen organizado y la guerra contra las drogas en Mexico.\n\nOrganizado 
 por Oakland Sin Fronteras, American Friends Service Committee, Frente 
 Indigena de Organizaciones Binacionales, 67 Suenos, Encinal.\n\nFree\n 
 https://www.indybay.org/newsitems/2017/02/26/18796830.php
SUMMARY:Responding to Trump and What to Do: Fighting State Violence and Forced Displacement
LOCATION:Eastside Arts Alliance\n2277 International Blvd.\nOakland, CA 94606-5003
URL:https://www.indybay.org/newsitems/2017/02/26/18796830.php
DTSTART:20170306T020000Z
DTEND:20170306T040000Z
END:VEVENT
END:VCALENDAR
