BEGIN:VCALENDAR
VERSION:2.0
X-WR-CALNAME:www.indybay.org
PRODID:-//indybay/ical// v1.0//EN
BEGIN:VEVENT
UID:Indybay-18796488
SEQUENCE:18931274
CREATED:20170214T051200Z
DESCRIPTION:Are you interested in getting more involved in local issues? Want to meet 
 people who share your concerns about protecting voting rights? Then spend 
 International Women's Day with the League of Women Voters of San Francisco 
 at our FREE happy hour on March 8. Members and non-members are welcome, so 
 invite your friends!\n\nWhile you're mixing and mingling, be sure to enjoy 
 Tonic bar's cocktails—and tip generously. Tonic will donate the evening's 
 tips to the League of Women Voters of San Francisco's nonpartisan voter 
 education and advocacy programs (lwvsf.org).\n 
 https://www.indybay.org/newsitems/2017/02/13/18796488.php
SUMMARY:Happy Hour with the League of Women Voters of San Francisco
LOCATION:Tonic bar, 2360 Polk St, San Francisco, California 94109
URL:https://www.indybay.org/newsitems/2017/02/13/18796488.php
DTSTART:20170309T020000Z
DTEND:20170309T040000Z
END:VEVENT
END:VCALENDAR
