BEGIN:VCALENDAR
VERSION:2.0
X-WR-CALNAME:www.indybay.org
PRODID:-//indybay/ical// v1.0//EN
BEGIN:VEVENT
UID:Indybay-18795784
SEQUENCE:18930378
CREATED:20170126T024200Z
DESCRIPTION:With every executive order and pronouncement so far, and those anticipated 
 for tomorrow and beyond, Trump is hammering hard and fast to transform 
 the\ncountry, with multiple new outrages every day. It is extremely 
 important that we respond, 
 now.\n\nhttps://www.facebook.com/events/1357586467661819/\n\n*EMERGENCY 
 PROPOSAL From Refuse Fascism (SF Bay Area) and World Can’t Wait (SF Bay) 
 *refusefascism.bayarea@gmail.com sf@worldcantwait.net\n 
 https://www.indybay.org/newsitems/2017/01/25/18795784.php
SUMMARY:Emergency Action Join Forces to Stop Trump's Orders
LOCATION:450 Golden Gate Ave, San Francisco, CA 94102-3611, United States
URL:https://www.indybay.org/newsitems/2017/01/25/18795784.php
DTSTART:20170126T220000Z
DTEND:20170127T010000Z
END:VEVENT
END:VCALENDAR
