BEGIN:VCALENDAR
VERSION:2.0
X-WR-CALNAME:www.indybay.org
PRODID:-//indybay/ical// v1.0//EN
BEGIN:VEVENT
UID:Indybay-18795731
SEQUENCE:18930023
CREATED:20170124T031800Z
DESCRIPTION:A provocative and exciting discussion with five climate activists, some of 
 whom are facing up to 90 years in prison for shutting down oil 
 pipelines.\n\nIf we are willing, how can we stop climate disaster? The way 
 to stop them, is to stop them. On October 11, 2016, five climate activists 
 manually shut down five tar sands oil pipelines located in four states. 
 This shut down 15% of US crude oil imports for nearly a day. 
 Unprecedented.\n\nThese brave people are willing to go to jail for decades 
 to stop climate change. What about you and me?\n\nCome share an evening 
 with the Valve Turners. As they prepare to go to trial, they'll come talk 
 strategy and share about their journey and the love that led them to take 
 these actions.\n\nBring your whole self, doubts, hopes, questions and let's 
 face for ourselves what will be required of us if we are to maintain a 
 livable planet for all.\n\nThis is a fundraiser. Donations will be 
 collected for their very high legal costs. No one turned away for lack of 
 funds.\n\nRSVP Necessary:\nFacebook: 
 https://www.facebook.com/events/1633070643668275/\nor by email: 
 diablorisingtide@riseup.net\n\nDirections: UC Berkeley, Dwinelle Hall, 
 Berkeley, CA 94720 Best entrance to enter campus is at Bancroft Way and 
 Telegraph Avenue. Enter campus and walk straight on the road you'll be on 
 called Sather Rd., then make a left on South Dr. and go straight until you 
 arrive at a building. That building will be Dwinelle Hall. Go inside and 
 follow signs to the room.\n\nDONATE 
 TODAY:\nhttp://shutitdown.today/donate\n\nEvent is co-hosted by The 
 American Cultures Center: 
 http://americancultures.berkeley.edu/collaborate\n\n 
 https://www.indybay.org/newsitems/2017/01/23/18795731.php
SUMMARY:If We Are Willing: How We Can Stop Climate Disaster
LOCATION:UC Berkeley, Dwinelle Hall, Berkeley, CA 94720 \nDirections: Best entrance 
 to enter campus is at Bancroft Way and Telegraph Avenue. Enter campus and 
 walk straight on the road you'll be on called Sather Rd., then make a left 
 on South Dr. and go straight until you arrive at a building. That building 
 will be Dwinelle Hall. Go inside and follow signs to the room.
URL:https://www.indybay.org/newsitems/2017/01/23/18795731.php
DTSTART:20170211T030000Z
DTEND:20170211T050000Z
END:VEVENT
END:VCALENDAR
