BEGIN:VCALENDAR
VERSION:2.0
X-WR-CALNAME:www.indybay.org
PRODID:-//indybay/ical// v1.0//EN
BEGIN:VEVENT
UID:Indybay-18795268
SEQUENCE:18929584
CREATED:20170111T015700Z
DESCRIPTION:Connecting Racial Justice Organizations with Tech Resources (part of the 
 All Day Mutual Aid Fair on #J20 in Oakland)\n\nIf you're with a 
 not-for-profit organization or activist/advocacy group working on 
 racial/social justice causes to support, defend, and uplift underserved and 
 marginalized communities throughout the Bay Area and beyond, and could use 
 help from technology resources, we're here to help!\n\nIf you're with a 
 not-for-profit organization or activist/advocacy group working on 
 racial/social justice causes to support, defend, and uplift underserved and 
 marginalized communities throughout the Bay Area and beyond, and could use 
 help from technology resources, we're here to help!\n\nFortunately, there 
 are a growing number of people with diverse technical skills - often 
 working in software start-ups and big tech companies, or as independent 
 freelancers - who would gladly volunteer their time to support your 
 technology needs upon request, for things like:\n\n- Website set-up, 
 hosting, and management\n- Email newsletter setup and membership management 
 tools\n- How to create a crowdfunding page\n- How to create and promote 
 Facebook events \n- File and document management & other cloud services\n- 
 Basic computer/wifi/website troubleshooting\n\nWhether you work with a 
 social justice organization or are a tech. specialist looking to volunteer, 
 stop by our booth on #J20 for more information and to sign-up!\n 
 https://www.indybay.org/newsitems/2017/01/10/18795268.php
SUMMARY:Tech Workers for Racial Justice #J20 #120Hours
LOCATION:Oscar Grant Plaza\nOakland
URL:https://www.indybay.org/newsitems/2017/01/10/18795268.php
DTSTART:20170120T180000Z
DTEND:20170121T010000Z
END:VEVENT
END:VCALENDAR
