BEGIN:VCALENDAR
VERSION:2.0
X-WR-CALNAME:www.indybay.org
PRODID:-//indybay/ical// v1.0//EN
BEGIN:VEVENT
UID:Indybay-18795238
SEQUENCE:18929668
CREATED:20170109T231400Z
DESCRIPTION:INAUGURATION DAY PROTEST\n\n“HUMAN BILLBOARD” PICKET / VIGIL\n\nBring 
 your signs with your message! Some sign-making material provided\n\nOn 
 January 20, the man who ran for president on a campaign built on hate, 
 racism and misogyny … The person who lost the popular vote by 3 million 
 votes … The man who is a charter member of the plutocrat class and who 
 comes into office as a walking conflict of interest … The man who is a 
 climate change denier and wants to make more money extracting dirty fossil 
 fuels, rather than putting people to work making clean energy … That man 
 will be inaugurated as President of the United States.\n\nPROTEST! LOVE 
 TRUMPS HATE!\n\n https://www.indybay.org/newsitems/2017/01/09/18795238.php
SUMMARY:Inauguration Day Protest: Not Our President!
LOCATION:Corner of El Camino Real & Embarcadero Road, Palo Alto, 94301
URL:https://www.indybay.org/newsitems/2017/01/09/18795238.php
DTSTART:20170121T010000Z
DTEND:20170121T030000Z
END:VEVENT
END:VCALENDAR
