BEGIN:VCALENDAR
VERSION:2.0
X-WR-CALNAME:www.indybay.org
PRODID:-//indybay/ical// v1.0//EN
BEGIN:VEVENT
UID:Indybay-18794983
SEQUENCE:18928819
CREATED:20161228T230900Z
DESCRIPTION:What's your real estate fantasy?\n\nDonald Trump's is that he continue to 
 derive 80% of his wealth income from mere ownership of valuable 
 locations--such as 555 California in San Francisco.\n\nRemain part of his 
 fantasy fulfillment, or come along on this walking tour which surveys 
 social movement history in San Francisco en route to uncovering the public 
 policy that would give truth to Woody Guthrie's THIS LAND IS YOUR LAND 
 anthem. Public policy that, which advocated, would satisfy your fantasy of 
 "stop Trump."\n\nSleep in or step up. The walk is free.\n 
 https://www.indybay.org/newsitems/2016/12/28/18794983.php
SUMMARY:"End your real estate fantasy" walking tour
LOCATION:American Youth Hostel\n312 Mason Street\nSan Francisco
URL:https://www.indybay.org/newsitems/2016/12/28/18794983.php
DTSTART:20161231T170000Z
DTEND:20161231T193000Z
END:VEVENT
END:VCALENDAR
