BEGIN:VCALENDAR
VERSION:2.0
X-WR-CALNAME:www.indybay.org
PRODID:-//indybay/ical// v1.0//EN
BEGIN:VEVENT
UID:Indybay-18794444
SEQUENCE:18927999
CREATED:20161205T182000Z
DESCRIPTION:Sunday Morning at the Marxist Library\n\nTriumph of Trump: \nContinuity and 
 Change in US Politics\n\nWTF happened? The script was clear: with backing 
 from the old-guard political leadership of both major parties, most 
 corporate CEOs, Citizens United PACs, the mainstream media, celebrities, 
 and high-ranking national security and military leaders, Hillary Clinton 
 was headed towards what looked to be a historic landslide victory.  Yet 
 the Democratic Party is in shambles, and Donald Trump is headed to the 
 White House in January.\n   Roger Harris with the Peace and Freedom Party 
 will discuss the threat of fascism with the election of Trump. Is fascism a 
 personality disorder or are there deeper political antecedents? Are they 
 now present with a Trump presidency? How does a left narrative differ from 
 a liberal one on the current potential for fascism and the threat posed by 
 Trump?\n   Economist Allan Miller will discuss the election in the 
 context of the ongoing capitalist economic crisis and neoliberalism. To 
 what extent will the Clinton-Bush-Obama (and Hillary’s “big tent”) 
 neoliberal trajectory continue under Donald Trump, and to what extent are 
 we witnessing a watershed moment in American history? With a major 
 world-wide recession, if not depression, looming, how will it play out 
 after the weak, jobless “recovery” of the last recession? \n\nSun, Dec 
 11, 2016 - 10:30am to 12:30pm\nNiebyl-Proctor Marxist Library\n6501 
 Telegraph Avenue, Oakland (just North of Alcatraz Ave.)\n\nSeating is 
 limited, so plan to come early. We start promptly.\nFREE - but hat will be 
 passed for donations to NPML\n\nAbout Sunday Morning at the Marxist 
 Library\nA weekly discussion series inspired by our respect for the work of 
 Karl Marx and our belief that his work will remain as important for the 
 class struggles of the future as they have been for the past. \n\nFor info 
 or to subscribe to our weekly announcements, \nCall Gene Ruyle at 
 510-332-3865 or email: cuyleruyle@mac.com\nFor our full schedule, go to 
 icssmarx.org \nLabor donated \n 
 https://www.indybay.org/newsitems/2016/12/05/18794444.php
SUMMARY:Triumph of Trump: Continuity and Change in US Politics
LOCATION:Niebyl-Proctor Marxist Library\n6501 Telegraph Avenue, Oakland (just North 
 of Alcatraz Ave.)
URL:https://www.indybay.org/newsitems/2016/12/05/18794444.php
DTSTART:20161211T183000Z
DTEND:20161211T203000Z
END:VEVENT
END:VCALENDAR
