BEGIN:VCALENDAR
VERSION:2.0
X-WR-CALNAME:www.indybay.org
PRODID:-//indybay/ical// v1.0//EN
BEGIN:VEVENT
UID:Indybay-18794271
SEQUENCE:18927665
CREATED:20161201T003300Z
DESCRIPTION:As Winter brings its deep light to our internal radiance. We gather. We 
 gather round the hearth. Winter Sol Nest, brings together the best in 
 music, healing, tea, nourishment, acro-yoga, activism and interactive art. 
 Each piece of the puzzle is empowered with the vision of creating a 
 welcoming space to nurture each other into brillinace. Portion of the 
 proceeds will go to support Standing Rock, Water is 
 LIFE!\n\nMUSIC:\nUplifting Folk - Lauren Arrow and the Songs\nEthereal 
 Bliss - Vlad Cardema\nStorytelling Earth Magic - Ace\nOriginal Song Wisdom 
 - Chris Alexander\n+ more....and World Drums & Freestyle 
 Hip-Hop\n\nInteractive Art: Prayer Flag Creations - Tara Nejma\n\nBody 
 Healing: Energy Work - Iyube\nMassage - Geneva, Sarah, Vlad, 
 See\n\nHerbalism:Plant Magic - Morgan\nOrganic Herbal Remedies - Bhumi 
 Herbals\n\nWarm Nourishing Locally Grown Drinks:\nKey Tea\n\nAcro-Yoga: 
 Leah\n\nZOME: Visionary Polar Zonohedral Dome by Rob\n\nActivism: Slam 
 Poetry- Tongo Eisen-Martin\nHuman Rights & Environmental Advocacy,\nSupport 
 for Standing Rock\n\nNourishing Food: Cherimoya - Megan 
 McCulloch\n\nTheatre: Sacred Carnival\nElemental Solstice 
 Honoring\n\nMaster of Ceremonies: See\n\nmore 
 info:\nkeyteacart.com\nsee@keyteacart.com\nblessitup.com\nsee@blessitup.com\n\n$10-20 
 sliding scale\n https://www.indybay.org/newsitems/2016/11/30/18794271.php
SUMMARY:Winter SOL NEST at Fairfax Pavillion Art Music Healing Acro
LOCATION:Fairfax Pavillion, 142 Bolinas Rd, Fairfax, California 94930
URL:https://www.indybay.org/newsitems/2016/11/30/18794271.php
DTSTART:20161218T023000Z
DTEND:20161218T063000Z
END:VEVENT
END:VCALENDAR
