BEGIN:VCALENDAR
VERSION:2.0
X-WR-CALNAME:www.indybay.org
PRODID:-//indybay/ical// v1.0//EN
BEGIN:VEVENT
UID:Indybay-18794131
SEQUENCE:18927390
CREATED:20161126T030300Z
DESCRIPTION:From: 
 http://davematthewsband.com/news/march-rally-for-standing-rock-this-sunday\nThis 
 Sunday at noon, wear blue and join Last Real Indians and other activists as 
 they demand that the Justice Department intervene to protect water 
 protectors. The March & Rally for Standing Rock takes place in Washington 
 DC and will go from the Department of Justice to the Washington Monument in 
 opposition to the Dakota Access Pipeline. We will hear from Chase Iron 
 Eyes, Dolores Huerta, Alayna Eagle Shield, and others, along with 
 performances by Lakota Thunder and Jingle Dress Dancers.\n#noDAPL 
 #standforstandingrock #waterislife\n 
 https://www.indybay.org/newsitems/2016/11/25/18794131.php
SUMMARY:Standing Rock #NoDAPL March on Washington
LOCATION:Department of Justice to Washington Monument, Washington, D.C.
URL:https://www.indybay.org/newsitems/2016/11/25/18794131.php
DTSTART:20161127T200000Z
DTEND:20161127T220000Z
END:VEVENT
END:VCALENDAR
