BEGIN:VCALENDAR
VERSION:2.0
X-WR-CALNAME:www.indybay.org
PRODID:-//indybay/ical// v1.0//EN
BEGIN:VEVENT
UID:Indybay-18794069
SEQUENCE:18927407
CREATED:20161123T222000Z
DESCRIPTION:Independent Living Challenges for Adults with Autism: Assessment & 
 Diagnosis, Treatment, Government Benefits (State Developmental Disability 
 Programs/SSI) and Employment Supports.\n\nDescription: This seminar will 
 address issues related to navigating adulthood as an individual on the 
 Autism Spectrum. Seminar will cover:\n \n\nBackground and scope of 
 challenges\nAssessment and diagnosis of adults with ASD\nTreatments 
 available for adults with ASD\nQualifying for California Regional Center 
 Benefits as an adult\nSupplemental Security Income (SSI)\nImproving access 
 and integration for individuals with ASD\nAudience: The general public; 
 people with disabilities, families, and friends; legal community; health 
 and social service providers.\n\nDate/Time: Tuesday, December 6, 2016\n 
 \n\n10:00 a.m. – 1:00 p.m. Pacific Time (Registration starts at 9:30 
 a.m.)\n \n\nLocation: Koret Auditorium, San Francisco Public Library\n100 
 Larkin Street (at Grove) Enter at 30 Grove Street and proceed to lower 
 level.\n\nThe Livestream link is available here: 
 https://youtu.be/uJJF06Mh4J0\n\nSpeakers:\n \n\nRobert L. Hendren, 
 DO:\n\nProfessor of Psychiatry and Behavioral Science; Co-Director of the 
 UCSF Dyslexia Center; and Director, Neurodevelopmental, Translational 
 Outcomes Research Program (NTORP); STAR Autism and Neurodevelopmental 
 Disorders Program, University of California San Francisco.\n\nVanessa Bal, 
 PhD:\n\nAssistant Professor, Department of Psychiatry, STAR Autism and 
 Neurodevelopmental Disorders Program, University of California San 
 Francisco.\n\nPilar Gonzalez:\n\nAttorney, Clients’ Rights Advocate, 
 Office of Clients’ Rights Advocacy, Disability Rights California, San 
 Francisco.\n\n\nSherri Kimbell:\n\nProgram Director, CBEM 
 Napa.\n\nAdditional speakers to be announced. \n\nModerated by People With 
 Disabilities Foundation\n\nFREE ADMISSION tax-deductible donations are 
 appreciated (not on library premises).\n\nTo RSVP or to make a donation, 
 contact: education@pwdf.org or call (415) 931-3070.\n\nThe Main Library is 
 wheelchair accessible.  To request other accommodations, contact 
 education@pwdf.org or call (415) 931-3070.  Requesting accommodations at 
 least 1 week in advance will help ensure availability.\n\nSee this webpage 
 for updates about continuing legal education. \n\nThis is not a 
 library-sponsored program.  Refreshments are not allowed in the 
 Auditorium.\n https://www.indybay.org/newsitems/2016/11/23/18794069.php
SUMMARY:Free Public Awareness Seminar: Integration of Individuals with Autism into the Whole of S
LOCATION:Koret Audtiorium, San Francisco Public Library, Main Branch\n100 Larkin 
 Street (at Grove), San Francisco, CA 94102 Enter at 30 Grove Street and 
 proceed to lower level.\n\nThe Livestream link is available here: 
 https://youtu.be/uJJF06Mh4J0
URL:https://www.indybay.org/newsitems/2016/11/23/18794069.php
DTSTART:20161206T180000Z
DTEND:20161206T210000Z
END:VEVENT
END:VCALENDAR
