BEGIN:VCALENDAR
VERSION:2.0
X-WR-CALNAME:www.indybay.org
PRODID:-//indybay/ical// v1.0//EN
BEGIN:VEVENT
UID:Indybay-18794001
SEQUENCE:18927208
CREATED:20161122T095300Z
DESCRIPTION:The Recent release of the of the Carbon Dioxide levels exceeding 400 part 
 per Million put us at a Extinction Level for humans as a Species Survival 
 must bring this Down to 350 for our Survival. The hottest consecutive 
 months Ever recorded has reached 17 Sraight months as Our new President 
 trump a Climate Denier and the KKKorporations doing nothing. We the People 
 MUST use this Boycott to show Restraint and pressure for Cleaner and 
 Efficient fuels. This Author has been arrested both for September Annua 
 STOP DRIVING AND ther now monthly in November as they are Scared of this 
 Boycott. \n https://www.indybay.org/newsitems/2016/11/22/18794001.php
SUMMARY:7th Annual 9-11 (was an Inside Job) 4 Day Stop Driving campaign goes Monthly
LOCATION:Everywhere in the Bay Area but Especially in the East Bay. 
URL:https://www.indybay.org/newsitems/2016/11/22/18794001.php
DTSTART:20161212T120000Z
DTEND:20161213T120000Z
END:VEVENT
END:VCALENDAR
