BEGIN:VCALENDAR
VERSION:2.0
X-WR-CALNAME:www.indybay.org
PRODID:-//indybay/ical// v1.0//EN
BEGIN:VEVENT
UID:Indybay-18793992
SEQUENCE:18927186
CREATED:20161122T042600Z
DESCRIPTION:Transition Berkeley invites you to a relaxing evening of nourishment for 
 body and soul. We’ll first share a warm and healthy potluck supper 
 accompanied by the mellow sounds of live piano music. After dinner we’ll 
 be treated to an improvisational song circle led by Berkeley artist and 
 circle song enthusiast Phoebe Ackley. We’ll circle around as we lift our 
 voices in harmony under Phoebe’s skillful guidance, creating unique and 
 lively songscapes as we respond to her cues. Following our singing we’ll 
 exchange ideas for making the winter holidays stress free and waste free. 
 (Bring your favorite ideas to share with others.) We’ll close the evening 
 with a half hour practice session for the active listening skills we 
 learned last month from empathy expert, Edwin Rutsch. Edwin will facilitate 
 Empathy Circles in which each of us will have a chance to be a speaker in a 
 small group and an active listener. Active listening is key to opening 
 channels of communication with those you disagree with. People are more 
 willing to listen when they feel fully heard.  So come on out, lift your 
 voice and open your ears, for a joyful, sustainable and just future.\n\nFor 
 more info: info@transitionberkeley.com    \nwebsite: 
 http://www.transitionberkeley.com\n\nThis event is co-sponsored by 
 Transition Berkeley, Citizens’ Climate Lobby, and BFUU's Social Justice 
 Ctee.\nSuggested donation $5-$20. No one turned away. \nBring: An 
 earth-friendly potluck dish or refreshment to share at 6 pm\nWheelchair 
 accessible.\n\nFor occasional email notices of peace/eco/social justice 
 alerts and related events at BFUU, send any email 
 to:\nbfuusjev-subscribe@lists.riseup.net\n\nFor weekly notices of BFUU 
 services etc. go to:\nwww.bfuu.org/signup.html\n\n\n 
 https://www.indybay.org/newsitems/2016/11/21/18793992.php
SUMMARY:Let Our Voices Be Heard: Potluck, Singing & Discussion
LOCATION:Berkeley Fellowship of Unitarian Universalists’ Hall \n1924 Cedar 
 (@Bonita), Berkeley   www.bfuu.org\n
URL:https://www.indybay.org/newsitems/2016/11/21/18793992.php
DTSTART:20161202T020000Z
DTEND:20161202T050000Z
END:VEVENT
END:VCALENDAR
