BEGIN:VCALENDAR
VERSION:2.0
X-WR-CALNAME:www.indybay.org
PRODID:-//indybay/ical// v1.0//EN
BEGIN:VEVENT
UID:Indybay-18793725
SEQUENCE:18926951
CREATED:20161117T174600Z
DESCRIPTION: In need of some comic relief  Sensible Cinema invites you to the screening 
 of Michael Moore's film Where To Invade Next. \n\nAfter a six year absence 
 Michael Moore  returns with a new film Where To Invade Next. Where To 
 Invade Next is not a satire on American Foreign Policy as the title suggest 
 but a subversive comedy travelogue.  Playing the role of invader Moore 
 travels to a host of nations to learn how the US could improve its own 
 quality of life in areas of schooling, prisons, education etc...\n 
 https://www.indybay.org/newsitems/2016/11/17/18793725.php
SUMMARY:Film: Where To Invade Next
LOCATION:Unitarian Universalist Center\n1187 Franklin Street/Geary
URL:https://www.indybay.org/newsitems/2016/11/17/18793725.php
DTSTART:20161119T023000Z
DTEND:20161119T043000Z
END:VEVENT
END:VCALENDAR
