BEGIN:VCALENDAR
VERSION:2.0
X-WR-CALNAME:www.indybay.org
PRODID:-//indybay/ical// v1.0//EN
BEGIN:VEVENT
UID:Indybay-18793707
SEQUENCE:18926766
CREATED:20161117T001700Z
DESCRIPTION:Come hear presentations and discussion on the role of U.S. imperialism in 
 Colombia and Syria:\n\nColombia recently finished negotiating a Peace 
 Accord between the FARC-EP and the Colombian government. But when put to a 
 plebiscite it lost. Why would the people vote against peace in Colombia 
 after 54 years of war. It is important to look at the character of the many 
 years of war against the people and the role of the US in financing and 
 directing that war. Was it really a War on Drugs, why are there 7 US 
 military bases in Colombia, who was really responsible for the 
 violence?\nPresented by Alice Dodge Loaiza who lived many years in Colombia 
 as an activist and now works with Marcha Patriótica - Capítulo 
 California\n\nJudy Greenspan of Workers World Party - Bay Area will talk 
 about the current situation in Syria, clarifying the US role in the 
 devastating war and upheaval in that country. Judy will describe the 
 growing worldwide movement demanding US/NATO Hands Off Syria and the right 
 of self-determination of the Syrian people to decide their future. 
 \n\nRefreshments will be served. The space is wheelchair accessible.\n 
 https://www.indybay.org/newsitems/2016/11/16/18793707.php
SUMMARY:Colombia and Syria: Two of Many U.S. Wars
LOCATION:Workers World\n1305 Franklin St #411\nOakland, CA 94612
URL:https://www.indybay.org/newsitems/2016/11/16/18793707.php
DTSTART:20161119T020000Z
DTEND:20161119T040000Z
END:VEVENT
END:VCALENDAR
