BEGIN:VCALENDAR
VERSION:2.0
X-WR-CALNAME:www.indybay.org
PRODID:-//indybay/ical// v1.0//EN
BEGIN:VEVENT
UID:Indybay-18793706
SEQUENCE:18927280
CREATED:20161117T001300Z
DESCRIPTION:For the first time in Earth’s history, our planet is experiencing rapidly 
 accelerating changes prompted by one species: humans. Climate change is the 
 most visible and our current behavior threatens not only our own future but 
 that of countless other creatures.\n\nAs we stand at this pivotal juncture, 
 Dr. Grinspoon calls upon all of us to be planetary engineers, conscious 
 shapers of our environment, and caretakers of the Earth’s biosphere. 
 \n\nWith our future at stake Dr. Grinspoon shares his 10,000 year 
 perspective by not only asking what kind of future we want to avoid, but 
 what do we ultimately seek to build? \n\n 
 https://www.indybay.org/newsitems/2016/11/16/18793706.php
SUMMARY:“Earth in Human Hands: Shaping Our Planet’s Future” with Dr. David Grinspoon
LOCATION:Lucie Stern Theatre\n1305 Middlefield Road, Palo Alto\n
URL:https://www.indybay.org/newsitems/2016/11/16/18793706.php
DTSTART:20161213T030000Z
DTEND:20161213T040000Z
END:VEVENT
END:VCALENDAR
