BEGIN:VCALENDAR
VERSION:2.0
X-WR-CALNAME:www.indybay.org
PRODID:-//indybay/ical// v1.0//EN
BEGIN:VEVENT
UID:Indybay-18793296
SEQUENCE:18926175
CREATED:20161110T111800Z
DESCRIPTION:The Trump Presidency and the Danger of World War\n\nThe victory of Donald 
 Trump in the US presidential election is a political earthquake that has 
 exposed before the entire world the terminal crisis of American democracy. 
 Such is the degeneration of bourgeois rule that it has elevated an obscene 
 charlatan and billionaire demagogue to the highest office in the 
 land.\n\nUnder Trump, America will not be made “great again.” It will 
 be driven into the dirt. The preparations for dictatorship and world war 
 are far advanced.\n\nWorkers and young people must take warning and work to 
 build a political leadership to oppose war and dictatorship and the 
 capitalist system that produces them.\n\nSuggested reading for Thursday's 
 class:\n\nRace, class and the election of 
 Trump\nhttp://www.wsws.org/en/articles/2016/11/10/pers-n10.html\n\nThousands 
 protest in Berkeley in wake of Trump 
 election\nhttp://www.wsws.org/en/articles/2016/11/10/berk-n10.html\n\nTrump’s 
 victory and the debacle of American 
 democracy\nhttp://www.wsws.org/en/articles/2016/11/09/pers-n09.html\n 
 https://www.indybay.org/newsitems/2016/11/10/18793296.php
SUMMARY:The Trump Presidency and the Danger of World War
LOCATION:61 Evans Hall, UC Berkeley\n\nMap: 
 https://www.google.com/maps/place/Evans/@37.8736688,-122.259927,17z/data=!3m1!4b1!4m5!3m4!1s0x80857c2470fbbea9:0x118400137dd3a1fc!8m2!3d37.8736688!4d-122.2577383?hl=en
URL:https://www.indybay.org/newsitems/2016/11/10/18793296.php
DTSTART:20161111T033000Z
DTEND:20161111T043000Z
END:VEVENT
END:VCALENDAR
